BEGIN:VCALENDAR
VERSION:2.0
PRODID:-//The Big Sky Centre for Learning and Being Astonished Inc. - ECPv6.14.1//NONSGML v1.0//EN
CALSCALE:GREGORIAN
METHOD:PUBLISH
X-WR-CALNAME:The Big Sky Centre for Learning and Being Astonished Inc.
X-ORIGINAL-URL:https://www.beingastonished.com
X-WR-CALDESC:Events for The Big Sky Centre for Learning and Being Astonished Inc.
REFRESH-INTERVAL;VALUE=DURATION:PT1H
X-Robots-Tag:noindex
X-PUBLISHED-TTL:PT1H
BEGIN:VTIMEZONE
TZID:America/Chicago
BEGIN:DAYLIGHT
TZOFFSETFROM:-0600
TZOFFSETTO:-0500
TZNAME:CDT
DTSTART:20260308T080000
END:DAYLIGHT
BEGIN:STANDARD
TZOFFSETFROM:-0500
TZOFFSETTO:-0600
TZNAME:CST
DTSTART:20261101T070000
END:STANDARD
END:VTIMEZONE
BEGIN:VEVENT
DTSTART;TZID=America/Chicago:20260423T190000
DTEND;TZID=America/Chicago:20260423T210000
DTSTAMP:20260423T044403
CREATED:20260416T150958Z
LAST-MODIFIED:20260416T153148Z
UID:10544-1776970800-1776978000@www.beingastonished.com
SUMMARY:'What's Your Style!?' Dance Night!
DESCRIPTION:Come get your groove on and let loose to the music at this upcoming ‘What’s Your Style!? dance night!!  \nThe Details:\nWhat: ‘What’s Your Style!?’ Dance Night\nDate: Thursday\, April 23rd\, 2026\nTime: 7:00 pm – 9:00 pm\nLocation: Mamaweyatitan Centre (3355-6th Ave.) \nPlease RSVP to Melissa Turbuck  by April 17th\, 2026 \nPlease send in your Paratransit bus times by April 22nd! \nIf you are an Astonished! Core Member\, please register/RSVP with Melissa through email\, phone\, or text. Do not register with the City of Regina if you are a Core Member. If you know of someone who is not a Core Member that would like to attend\, please direct them to the instructions on the poster so that they can register through the city! Please feel free to forward this email and poster to your friends! \n\nParatransit: When you receive your bus times\, please send them to Melissa. Please make sure you are there no earlier than 6:45pm for drop off\, and pick up is scheduled for no later than 9:15pm. \n\n*****We will be welcoming volunteers to the dance night so if you would like to join in on the fun please let me know if you would like to attend 🙂 **** \n\n\n\nIf you have any questions\, please do not hesitate to reach out to Mel! \nThank you to the City of Regina for a Social Development Grant – Annual Activity to partially support the work of the Astonished! Social Club
URL:https://www.beingastonished.com/event/whats-your-style-dance-night-apr/
LOCATION:Mamaweyatitan Centre\, 3356 6th Avenue\, Regina\, Saskatchewan\, Canada
ATTACH;FMTTYPE=image/jpeg:https://www.beingastonished.com/wp-content/uploads/2026/04/Whats-your-style-Dance-Nights-2026-1-1.jpg
END:VEVENT
END:VCALENDAR